BEGIN:VCALENDAR
VERSION:2.0
PRODID:-//https://www.atlanticconcrete.ca///NONSGML kigkonsult.se iCalcreator 2.10.15//
METHOD:PUBLISH
BEGIN:VEVENT
UID:20260420T012858UTC-0269jOIhPK@https://www.atlanticconcrete.ca/
DTSTAMP:20260420T012858Z
DESCRIPTION:2026 ConAtlantic is in NL! REGISTER NOW BY CLICKING HERE!\n&nbs
 p\;\nWednesday\, February 18\, 2026 - Friday\, February 20\, 2026\nWrite i
 t in your calendars! Concrete Atlantic and ACI - Atlantic will be bringing
  ConAtlantic to St John's\, NL in 2026!\n&nbsp\;\nMore information will be
  available soon! We expect a great turnout!\nDelta St John's\, NL\nNOTE: I
 t's a busy time in St John's with other events happening in the city resul
 ting in hotel rooms be limited at this great rate. We recommend that you b
 ook your rooms early (you can always cancel) so we can adjust our room blo
 ck numbers if needed. Rooms are already booking in St. John's around that 
 time and by booking now\, organizers can increase the room block. It's eas
 ier to get extra rooms now rather than later.\nWe reserved a room block ra
 te of $139CAD/night!\nLast Day to Book: Monday\, Jan 17\, 2026\n&nbsp\;REG
 ISTRATION NOW BY CLICKING\nMEET OUR SPONSORS\n&nbsp\;\n&nbsp\; &nbsp\; &nb
 sp\; &nbsp\; &nbsp\; &nbsp\; &nbsp\; &nbsp\;&nbsp\;&nbsp\; &nbsp\;\n&nbsp\
 ;\nPRESIDENT'S Sponsor &nbsp\; &nbsp\; &nbsp\; &nbsp\; &nbsp\; &nbsp\; &nb
 sp\; &nbsp\; &nbsp\; &nbsp\; &nbsp\; &nbsp\; &nbsp\; &nbsp\; &nbsp\; &nbsp
 \; &nbsp\; &nbsp\; &nbsp\; &nbsp\; &nbsp\; &nbsp\; &nbsp\; &nbsp\; &nbsp\;
  LUNCHEON Sponsor\n&nbsp\; &nbsp\;&nbsp\; &nbsp\;&nbsp\;&nbsp\; &nbsp\; &n
 bsp\; &nbsp\; &nbsp\; &nbsp\;\n&nbsp\;\nSILVER Sponsors\n&nbsp\; &nbsp\; &
 nbsp\;&nbsp\;&nbsp\;&nbsp\; &nbsp\;&nbsp\; &nbsp\;&nbsp\;&nbsp\;\n&nbsp\; 
 &nbsp\;&nbsp\; &nbsp\;&nbsp\; &nbsp\; &nbsp\;&nbsp\;&nbsp\; &nbsp\; &nbsp\
 ;&nbsp\; &nbsp\; &nbsp\;\n&nbsp\; &nbsp\;&nbsp\; &nbsp\;&nbsp\; &nbsp\; &n
 bsp\;&nbsp\; &nbsp\;&nbsp\;&nbsp\; &nbsp\; &nbsp\; &nbsp\;\nENTERTIANIMENT
  Sponsor. &nbsp\; &nbsp\; &nbsp\; &nbsp\; &nbsp\; &nbsp\; &nbsp\; &nbsp\; 
 WINE Sponsor\n&nbsp\; &nbsp\; &nbsp\; &nbsp\; &nbsp\; &nbsp\; &nbsp\; &nbs
 p\; &nbsp\; &nbsp\; &nbsp\; &nbsp\; &nbsp\;&nbsp\;&nbsp\;\nBRONZE Sponsors
 \n&nbsp\; &nbsp\;&nbsp\; &nbsp\;&nbsp\;\n&nbsp\; &nbsp\; &nbsp\; &nbsp\; &
 nbsp\;\n&nbsp\;\n&nbsp\;Interestd in Sponsoring? Contact the Concrete Atla
 ntic office.&nbsp\; https://www.atlanticconcrete.ca/index.php/news-events/
 upcoming-events/event/66-registration-is-open-2026-conatlantic-is-in-nl
DTSTART:20260218T162034Z
DTEND:20260220T182034Z
LOCATION:Delta Hotel - St John's NL ()
SUMMARY:REGISTRATION IS OPEN - 2026 ConAtlantic is in NL!
URL:https://www.atlanticconcrete.ca/index.php/news-events/upcoming-events/e
 vent/66-registration-is-open-2026-conatlantic-is-in-nl
END:VEVENT
END:VCALENDAR
